Package: TRESS Version: 1.15.0 Command: /home/biocbuild/bbs-3.22-bioc/R/bin/R CMD INSTALL TRESS StartedAt: 2025-10-27 15:41:07 -0400 (Mon, 27 Oct 2025) EndedAt: 2025-10-27 15:41:43 -0400 (Mon, 27 Oct 2025) EllapsedTime: 35.3 seconds RetCode: 0 Status: OK