Package: TREG Version: 1.14.0 Command: /home/biocbuild/bbs-3.22-bioc/R/bin/R CMD INSTALL TREG StartedAt: 2025-11-14 15:36:47 -0500 (Fri, 14 Nov 2025) EndedAt: 2025-11-14 15:37:08 -0500 (Fri, 14 Nov 2025) EllapsedTime: 21.0 seconds RetCode: 0 Status: OK