Package: TREG Version: 1.14.0 Command: /home/biocbuild/bbs-3.22-bioc/R/bin/R CMD build --keep-empty-dirs --no-resave-data --md5 TREG StartedAt: 2025-11-14 20:43:58 -0500 (Fri, 14 Nov 2025) EndedAt: 2025-11-14 20:45:36 -0500 (Fri, 14 Nov 2025) EllapsedTime: 98.1 seconds RetCode: 0 Status: OK PackageFile: TREG_1.14.0.tar.gz PackageFileSize: 2.403 MiB