Package: TPP2D Version: 1.25.2 Command: /home/biocbuild/bbs-3.22-bioc/R/bin/R CMD INSTALL TPP2D StartedAt: 2025-10-24 15:19:48 -0400 (Fri, 24 Oct 2025) EndedAt: 2025-10-24 15:19:56 -0400 (Fri, 24 Oct 2025) EllapsedTime: 8.0 seconds RetCode: 0 Status: OK