Package: TPP2D Version: 1.25.2 Command: /home/biocbuild/bbs-3.22-bioc/R/bin/R CMD build --keep-empty-dirs --no-resave-data --md5 TPP2D StartedAt: 2025-10-24 20:41:37 -0400 (Fri, 24 Oct 2025) EndedAt: 2025-10-24 20:42:09 -0400 (Fri, 24 Oct 2025) EllapsedTime: 32.0 seconds RetCode: 0 Status: OK PackageFile: TPP2D_1.25.2.tar.gz PackageFileSize: 2.291 MiB