Package: TPP Version: 3.38.0 Command: /home/biocbuild/bbs-3.22-bioc/R/bin/R CMD INSTALL TPP StartedAt: 2025-11-20 16:03:37 -0500 (Thu, 20 Nov 2025) EndedAt: 2025-11-20 16:03:51 -0500 (Thu, 20 Nov 2025) EllapsedTime: 13.8 seconds RetCode: 0 Status: OK