Package: TOP Version: 1.10.0 Command: /home/biocbuild/bbs-3.22-bioc/R/bin/R CMD INSTALL TOP StartedAt: 2025-11-03 15:29:42 -0500 (Mon, 03 Nov 2025) EndedAt: 2025-11-03 15:30:14 -0500 (Mon, 03 Nov 2025) EllapsedTime: 32.6 seconds RetCode: 0 Status: OK