Package: TOAST Version: 1.24.0 Command: /home/biocbuild/bbs-3.22-bioc/R/bin/R CMD INSTALL TOAST StartedAt: 2025-11-09 15:17:42 -0500 (Sun, 09 Nov 2025) EndedAt: 2025-11-09 15:18:08 -0500 (Sun, 09 Nov 2025) EllapsedTime: 25.8 seconds RetCode: 0 Status: OK