Package: TOAST Version: 1.24.0 Command: /home/biocbuild/bbs-3.22-bioc/R/bin/R CMD build --keep-empty-dirs --no-resave-data --md5 TOAST StartedAt: 2025-11-09 20:42:45 -0500 (Sun, 09 Nov 2025) EndedAt: 2025-11-09 20:45:09 -0500 (Sun, 09 Nov 2025) EllapsedTime: 143.4 seconds RetCode: 0 Status: OK PackageFile: TOAST_1.24.0.tar.gz PackageFileSize: 3.642 MiB