Package: TMSig Version: 1.4.0 Command: /home/biocbuild/bbs-3.22-bioc/R/bin/R CMD INSTALL TMSig StartedAt: 2025-11-10 15:35:15 -0500 (Mon, 10 Nov 2025) EndedAt: 2025-11-10 15:35:37 -0500 (Mon, 10 Nov 2025) EllapsedTime: 22.5 seconds RetCode: 0 Status: OK