Package: TMSig Version: 1.4.0 Command: /home/biocbuild/bbs-3.22-bioc/R/bin/R CMD build --keep-empty-dirs --no-resave-data --md5 TMSig StartedAt: 2025-11-10 20:42:14 -0500 (Mon, 10 Nov 2025) EndedAt: 2025-11-10 20:43:01 -0500 (Mon, 10 Nov 2025) EllapsedTime: 47.0 seconds RetCode: 0 Status: OK PackageFile: TMSig_1.4.0.tar.gz PackageFileSize: 3.865 MiB