Package: TFutils Version: 1.29.1 Command: /home/biocbuild/bbs-3.22-bioc/R/bin/R CMD INSTALL TFutils StartedAt: 2025-10-28 15:55:25 -0400 (Tue, 28 Oct 2025) EndedAt: 2025-10-28 15:56:30 -0400 (Tue, 28 Oct 2025) EllapsedTime: 65.3 seconds RetCode: 0 Status: OK