Package: TFutils Version: 1.29.1 Command: /home/biocbuild/bbs-3.22-bioc/R/bin/R CMD build --keep-empty-dirs --no-resave-data --md5 TFutils StartedAt: 2025-10-28 20:28:56 -0400 (Tue, 28 Oct 2025) EndedAt: 2025-10-28 20:31:06 -0400 (Tue, 28 Oct 2025) EllapsedTime: 130.1 seconds RetCode: 0 Status: OK PackageFile: TFutils_1.29.1.tar.gz PackageFileSize: 5.971 MiB