Package: TFEA.ChIP Version: 1.30.0 Command: /home/biocbuild/bbs-3.22-bioc/R/bin/R CMD INSTALL TFEA.ChIP StartedAt: 2025-11-17 17:51:18 -0500 (Mon, 17 Nov 2025) EndedAt: 2025-11-17 17:52:24 -0500 (Mon, 17 Nov 2025) EllapsedTime: 66.2 seconds RetCode: 0 Status: OK