Package: TFEA.ChIP Version: 1.30.0 Command: /home/biocbuild/bbs-3.22-bioc/R/bin/R CMD build --keep-empty-dirs --no-resave-data --md5 TFEA.ChIP StartedAt: 2025-11-17 23:57:07 -0500 (Mon, 17 Nov 2025) EndedAt: 2025-11-17 23:58:42 -0500 (Mon, 17 Nov 2025) EllapsedTime: 95.0 seconds RetCode: 0 Status: OK PackageFile: TFEA.ChIP_1.30.0.tar.gz PackageFileSize: 6.775 MiB