Package: TFARM Version: 1.32.0 Command: /home/biocbuild/bbs-3.22-bioc/R/bin/R CMD INSTALL TFARM StartedAt: 2025-11-14 15:26:10 -0500 (Fri, 14 Nov 2025) EndedAt: 2025-11-14 15:26:25 -0500 (Fri, 14 Nov 2025) EllapsedTime: 15.8 seconds RetCode: 0 Status: OK