Package: TENxIO Version: 1.12.0 Command: /home/biocbuild/bbs-3.22-bioc/R/bin/R CMD INSTALL TENxIO StartedAt: 2025-11-14 15:38:19 -0500 (Fri, 14 Nov 2025) EndedAt: 2025-11-14 15:38:45 -0500 (Fri, 14 Nov 2025) EllapsedTime: 26.4 seconds RetCode: 0 Status: OK