Package: TCseq Version: 1.34.0 Command: /Library/Frameworks/R.framework/Resources/bin/R CMD INSTALL TCseq StartedAt: 2025-11-10 15:19:03 -0500 (Mon, 10 Nov 2025) EndedAt: 2025-11-10 15:19:15 -0500 (Mon, 10 Nov 2025) EllapsedTime: 11.5 seconds RetCode: 0 Status: OK