Package: TCseq Version: 1.34.0 Command: rm -rf TCseq.buildbin-libdir && mkdir TCseq.buildbin-libdir && /Users/biocbuild/BBS/utils/build-universal.sh TCseq_1.34.0.tar.gz /Library/Frameworks/R.framework/Resources/bin/R TCseq.buildbin-libdir StartedAt: 2025-11-10 23:39:15 -0500 (Mon, 10 Nov 2025) EndedAt: 2025-11-10 23:39:28 -0500 (Mon, 10 Nov 2025) EllapsedTime: 13.4 seconds RetCode: 0 Status: OK PackageFile: TCseq_1.34.0.tgz PackageFileSize: 830.4 KiB