Package: TCGAutils Version: 1.30.0 Command: /home/biocbuild/R/R/bin/R CMD INSTALL TCGAutils StartedAt: 2025-11-13 21:50:47 -0000 (Thu, 13 Nov 2025) EndedAt: 2025-11-13 21:51:35 -0000 (Thu, 13 Nov 2025) EllapsedTime: 47.7 seconds RetCode: 0 Status: OK