Package: TCGAutils Version: 1.29.5 Command: /home/biocbuild/bbs-3.22-bioc/R/bin/R CMD INSTALL TCGAutils StartedAt: 2025-10-24 15:54:01 -0400 (Fri, 24 Oct 2025) EndedAt: 2025-10-24 15:54:37 -0400 (Fri, 24 Oct 2025) EllapsedTime: 36.7 seconds RetCode: 0 Status: OK