Package: TCGAutils Version: 1.29.5 Command: /home/biocbuild/bbs-3.22-bioc/R/bin/R CMD build --keep-empty-dirs --no-resave-data --md5 TCGAutils StartedAt: 2025-10-24 20:36:12 -0400 (Fri, 24 Oct 2025) EndedAt: 2025-10-24 20:39:12 -0400 (Fri, 24 Oct 2025) EllapsedTime: 180.4 seconds RetCode: 0 Status: OK PackageFile: TCGAutils_1.29.5.tar.gz PackageFileSize: 406.9 KiB