Package: TCGAutils Version: 1.29.5 Command: /Library/Frameworks/R.framework/Resources/bin/R CMD INSTALL TCGAutils StartedAt: 2025-10-24 15:24:53 -0400 (Fri, 24 Oct 2025) EndedAt: 2025-10-24 15:25:08 -0400 (Fri, 24 Oct 2025) EllapsedTime: 15.6 seconds RetCode: 0 Status: OK