Package: TCGAutils Version: 1.29.5 Command: /Library/Frameworks/R.framework/Resources/bin/R CMD build --keep-empty-dirs --no-resave-data TCGAutils StartedAt: 2025-10-24 17:57:38 -0400 (Fri, 24 Oct 2025) EndedAt: 2025-10-24 17:59:15 -0400 (Fri, 24 Oct 2025) EllapsedTime: 97.1 seconds RetCode: 0 Status: OK PackageFile: TCGAutils_1.29.5.tar.gz PackageFileSize: 398.6 KiB