Package: TCGAutils Version: 1.29.5 Command: rm -rf TCGAutils.buildbin-libdir && mkdir TCGAutils.buildbin-libdir && /Users/biocbuild/BBS/utils/build-universal.sh TCGAutils_1.29.5.tar.gz /Library/Frameworks/R.framework/Resources/bin/R TCGAutils.buildbin-libdir StartedAt: 2025-10-24 23:22:19 -0400 (Fri, 24 Oct 2025) EndedAt: 2025-10-24 23:22:36 -0400 (Fri, 24 Oct 2025) EllapsedTime: 16.5 seconds RetCode: 0 Status: OK PackageFile: TCGAutils_1.29.5.tgz PackageFileSize: 520.5 KiB