Package: TCGAutils Version: 1.30.0 Maintainer: Marcel Ramos MaintainerEmail: marcel.ramos at sph.cuny.edu git_url: https://git.bioconductor.org/packages/TCGAutils git_branch: RELEASE_3_22 git_last_commit: 4195bdf git_last_commit_date: 2025-10-29 10:45:09 -0500 (Wed, 29 Oct 2025)