Package: TCC Version: 1.50.0 Command: /home/biocbuild/bbs-3.22-bioc/R/bin/R CMD INSTALL TCC StartedAt: 2025-10-29 21:38:16 -0400 (Wed, 29 Oct 2025) EndedAt: 2025-10-29 21:38:47 -0400 (Wed, 29 Oct 2025) EllapsedTime: 30.6 seconds RetCode: 0 Status: OK