Package: TBSignatureProfiler Version: 1.22.0 Command: /home/biocbuild/bbs-3.22-bioc/R/bin/R CMD INSTALL TBSignatureProfiler StartedAt: 2025-11-16 16:01:25 -0500 (Sun, 16 Nov 2025) EndedAt: 2025-11-16 16:01:29 -0500 (Sun, 16 Nov 2025) EllapsedTime: 4.2 seconds RetCode: 0 Status: OK