Package: TAPseq Version: 1.21.0 Command: /home/biocbuild/bbs-3.22-bioc/R/bin/R CMD INSTALL TAPseq StartedAt: 2025-10-24 15:49:46 -0400 (Fri, 24 Oct 2025) EndedAt: 2025-10-24 15:50:26 -0400 (Fri, 24 Oct 2025) EllapsedTime: 39.4 seconds RetCode: 0 Status: OK