Package: TADCompare Version: 1.20.0 Command: /home/biocbuild/bbs-3.22-bioc/R/bin/R CMD INSTALL TADCompare StartedAt: 2025-11-16 15:36:02 -0500 (Sun, 16 Nov 2025) EndedAt: 2025-11-16 15:36:34 -0500 (Sun, 16 Nov 2025) EllapsedTime: 31.5 seconds RetCode: 0 Status: OK