Package: SynMut Version: 1.26.0 Command: /home/biocbuild/bbs-3.22-bioc/R/bin/R CMD build --keep-empty-dirs --no-resave-data --md5 SynMut StartedAt: 2025-11-06 20:26:42 -0500 (Thu, 06 Nov 2025) EndedAt: 2025-11-06 20:26:59 -0500 (Thu, 06 Nov 2025) EllapsedTime: 17.0 seconds RetCode: 0 Status: OK PackageFile: SynMut_1.26.0.tar.gz PackageFileSize: 105.8 KiB