Package: SynExtend Version: 1.22.0 Command: /Library/Frameworks/R.framework/Resources/bin/R CMD INSTALL SynExtend StartedAt: 2025-10-31 15:13:08 -0400 (Fri, 31 Oct 2025) EndedAt: 2025-10-31 15:13:18 -0400 (Fri, 31 Oct 2025) EllapsedTime: 9.7 seconds RetCode: 0 Status: OK