Package: SynExtend Version: 1.22.0 Command: /Library/Frameworks/R.framework/Resources/bin/R CMD build --keep-empty-dirs --no-resave-data SynExtend StartedAt: 2025-10-31 18:00:16 -0400 (Fri, 31 Oct 2025) EndedAt: 2025-10-31 18:00:48 -0400 (Fri, 31 Oct 2025) EllapsedTime: 32.4 seconds RetCode: 0 Status: OK PackageFile: SynExtend_1.22.0.tar.gz PackageFileSize: 3.131 MiB