Package: SynExtend Version: 1.22.0 Command: rm -rf SynExtend.buildbin-libdir && mkdir SynExtend.buildbin-libdir && /Users/biocbuild/BBS/utils/build-universal.sh SynExtend_1.22.0.tar.gz /Library/Frameworks/R.framework/Resources/bin/R SynExtend.buildbin-libdir StartedAt: 2025-10-31 23:25:59 -0400 (Fri, 31 Oct 2025) EndedAt: 2025-10-31 23:26:12 -0400 (Fri, 31 Oct 2025) EllapsedTime: 12.4 seconds RetCode: 0 Status: OK PackageFile: SynExtend_1.22.0.tgz PackageFileSize: 3.97 MiB