Package: SurfR Version: 1.6.0 Command: /home/biocbuild/bbs-3.22-bioc/R/bin/R CMD INSTALL SurfR StartedAt: 2025-11-14 15:47:27 -0500 (Fri, 14 Nov 2025) EndedAt: 2025-11-14 15:48:07 -0500 (Fri, 14 Nov 2025) EllapsedTime: 40.1 seconds RetCode: 0 Status: OK