Package: SuperCellCyto Version: 1.0.0 Command: /home/biocbuild/bbs-3.22-bioc/R/bin/R CMD INSTALL SuperCellCyto StartedAt: 2025-11-17 17:10:40 -0500 (Mon, 17 Nov 2025) EndedAt: 2025-11-17 17:10:46 -0500 (Mon, 17 Nov 2025) EllapsedTime: 6.0 seconds RetCode: 0 Status: OK