Package: SuperCellCyto Version: 1.0.0 Command: /home/biocbuild/bbs-3.22-bioc/R/bin/R CMD build --keep-empty-dirs --no-resave-data --md5 SuperCellCyto StartedAt: 2025-11-17 23:50:47 -0500 (Mon, 17 Nov 2025) EndedAt: 2025-11-17 23:52:33 -0500 (Mon, 17 Nov 2025) EllapsedTime: 106.1 seconds RetCode: 0 Status: OK PackageFile: SuperCellCyto_1.0.0.tar.gz PackageFileSize: 4.383 MiB