Package: SummarizedExperiment Version: 1.40.0 Command: rm -rf SummarizedExperiment.buildbin-libdir && mkdir SummarizedExperiment.buildbin-libdir && /Users/biocbuild/BBS/utils/build-universal.sh SummarizedExperiment_1.40.0.tar.gz /Library/Frameworks/R.framework/Resources/bin/R SummarizedExperiment.buildbin-libdir StartedAt: 2025-11-10 23:38:48 -0500 (Mon, 10 Nov 2025) EndedAt: 2025-11-10 23:39:00 -0500 (Mon, 10 Nov 2025) EllapsedTime: 12.3 seconds RetCode: 0 Status: OK PackageFile: SummarizedExperiment_1.40.0.tgz PackageFileSize: 1.883 MiB