Package: SubCellBarCode Version: 1.25.0 Command: /home/biocbuild/bbs-3.22-bioc/R/bin/R CMD check --install=check:SubCellBarCode.install-out.txt --library=/home/biocbuild/bbs-3.22-bioc/R/site-library --timings SubCellBarCode_1.25.0.tar.gz StartedAt: 2025-10-25 04:43:30 -0400 (Sat, 25 Oct 2025) EndedAt: 2025-10-25 04:51:44 -0400 (Sat, 25 Oct 2025) EllapsedTime: 493.4 seconds RetCode: 0 Status: WARNINGS CheckDir: SubCellBarCode.Rcheck Warnings: 1