Package: SubCellBarCode Version: 1.26.0 Command: /Library/Frameworks/R.framework/Resources/bin/R CMD INSTALL SubCellBarCode StartedAt: 2025-11-17 17:41:16 -0500 (Mon, 17 Nov 2025) EndedAt: 2025-11-17 17:42:08 -0500 (Mon, 17 Nov 2025) EllapsedTime: 51.8 seconds RetCode: 0 Status: OK