Package: SubCellBarCode Version: 1.26.0 Command: /Library/Frameworks/R.framework/Resources/bin/R CMD build --keep-empty-dirs --no-resave-data SubCellBarCode StartedAt: 2025-11-18 02:44:24 -0500 (Tue, 18 Nov 2025) EndedAt: 2025-11-18 02:51:54 -0500 (Tue, 18 Nov 2025) EllapsedTime: 450.2 seconds RetCode: 0 Status: OK PackageFile: SubCellBarCode_1.26.0.tar.gz PackageFileSize: 2.34 MiB