Package: SubCellBarCode Version: 1.26.0 Command: rm -rf SubCellBarCode.buildbin-libdir && mkdir SubCellBarCode.buildbin-libdir && /Users/biocbuild/BBS/utils/build-universal.sh SubCellBarCode_1.26.0.tar.gz /Library/Frameworks/R.framework/Resources/bin/R SubCellBarCode.buildbin-libdir StartedAt: 2025-11-18 18:42:27 -0500 (Tue, 18 Nov 2025) EndedAt: 2025-11-18 18:43:20 -0500 (Tue, 18 Nov 2025) EllapsedTime: 53.5 seconds RetCode: 0 Status: OK PackageFile: SubCellBarCode_1.26.0.tgz PackageFileSize: 2.742 MiB