Package: SubCellBarCode Version: 1.26.0 Command: /Library/Frameworks/R.framework/Resources/bin/R CMD build --keep-empty-dirs --no-resave-data SubCellBarCode StartedAt: 2025-11-18 01:36:51 -0500 (Tue, 18 Nov 2025) EndedAt: 2025-11-18 01:38:43 -0500 (Tue, 18 Nov 2025) EllapsedTime: 112.1 seconds RetCode: 0 Status: OK PackageFile: SubCellBarCode_1.26.0.tar.gz PackageFileSize: 2.347 MiB