Package: StructuralVariantAnnotation Version: 1.25.0 Command: /home/biocbuild/R/R/bin/R CMD INSTALL StructuralVariantAnnotation StartedAt: 2025-10-23 21:15:54 -0000 (Thu, 23 Oct 2025) EndedAt: 2025-10-23 21:16:46 -0000 (Thu, 23 Oct 2025) EllapsedTime: 51.9 seconds RetCode: 0 Status: OK