Package: StructuralVariantAnnotation Version: 1.25.0 Command: /Library/Frameworks/R.framework/Resources/bin/R CMD INSTALL StructuralVariantAnnotation StartedAt: 2025-10-24 15:48:59 -0400 (Fri, 24 Oct 2025) EndedAt: 2025-10-24 15:49:55 -0400 (Fri, 24 Oct 2025) EllapsedTime: 55.3 seconds RetCode: 0 Status: OK