Package: StructuralVariantAnnotation Version: 1.25.0 Command: /Library/Frameworks/R.framework/Resources/bin/R CMD build --keep-empty-dirs --no-resave-data StructuralVariantAnnotation StartedAt: 2025-10-24 18:59:31 -0400 (Fri, 24 Oct 2025) EndedAt: 2025-10-24 19:00:55 -0400 (Fri, 24 Oct 2025) EllapsedTime: 84.4 seconds RetCode: 0 Status: OK PackageFile: StructuralVariantAnnotation_1.25.0.tar.gz PackageFileSize: 964.1 KiB