Package: StructuralVariantAnnotation Version: 1.25.0 Command: rm -rf StructuralVariantAnnotation.buildbin-libdir && mkdir StructuralVariantAnnotation.buildbin-libdir && /Users/biocbuild/BBS/utils/build-universal.sh StructuralVariantAnnotation_1.25.0.tar.gz /Library/Frameworks/R.framework/Resources/bin/R StructuralVariantAnnotation.buildbin-libdir StartedAt: 2025-10-25 02:07:23 -0400 (Sat, 25 Oct 2025) EndedAt: 2025-10-25 02:08:22 -0400 (Sat, 25 Oct 2025) EllapsedTime: 59.0 seconds RetCode: 0 Status: OK PackageFile: StructuralVariantAnnotation_1.25.0.tgz PackageFileSize: 1.071 MiB