Package: Structstrings Version: 1.25.3 Command: /home/biocbuild/R/R/bin/R CMD INSTALL Structstrings StartedAt: 2025-10-23 20:36:18 -0000 (Thu, 23 Oct 2025) EndedAt: 2025-10-23 20:36:42 -0000 (Thu, 23 Oct 2025) EllapsedTime: 23.9 seconds RetCode: 0 Status: OK