Package: Structstrings Version: 1.25.3 Command: /home/biocbuild/R/R/bin/R CMD build --keep-empty-dirs --no-resave-data Structstrings StartedAt: 2025-10-21 03:33:56 -0000 (Tue, 21 Oct 2025) EndedAt: 2025-10-21 03:34:34 -0000 (Tue, 21 Oct 2025) EllapsedTime: 38.0 seconds RetCode: 0 Status: OK PackageFile: Structstrings_1.25.3.tar.gz PackageFileSize: 444.3 KiB