Package: Structstrings Version: 1.25.3 Command: /home/biocbuild/bbs-3.22-bioc/R/bin/R CMD INSTALL Structstrings StartedAt: 2025-10-24 15:27:27 -0400 (Fri, 24 Oct 2025) EndedAt: 2025-10-24 15:27:44 -0400 (Fri, 24 Oct 2025) EllapsedTime: 16.7 seconds RetCode: 0 Status: OK